BEGIN:VCALENDAR
VERSION:2.0
PRODID:-//St. Catherine Catholic Church - ECPv6.15.20//NONSGML v1.0//EN
CALSCALE:GREGORIAN
METHOD:PUBLISH
X-WR-CALNAME:St. Catherine Catholic Church
X-ORIGINAL-URL:https://saintcatherine51.org
X-WR-CALDESC:Events for St. Catherine Catholic Church
REFRESH-INTERVAL;VALUE=DURATION:PT1H
X-Robots-Tag:noindex
X-PUBLISHED-TTL:PT1H
BEGIN:VTIMEZONE
TZID:America/Chicago
BEGIN:DAYLIGHT
TZOFFSETFROM:-0600
TZOFFSETTO:-0500
TZNAME:CDT
DTSTART:20250309T080000
END:DAYLIGHT
BEGIN:STANDARD
TZOFFSETFROM:-0500
TZOFFSETTO:-0600
TZNAME:CST
DTSTART:20251102T070000
END:STANDARD
BEGIN:DAYLIGHT
TZOFFSETFROM:-0600
TZOFFSETTO:-0500
TZNAME:CDT
DTSTART:20260308T080000
END:DAYLIGHT
BEGIN:STANDARD
TZOFFSETFROM:-0500
TZOFFSETTO:-0600
TZNAME:CST
DTSTART:20261101T070000
END:STANDARD
BEGIN:DAYLIGHT
TZOFFSETFROM:-0600
TZOFFSETTO:-0500
TZNAME:CDT
DTSTART:20270314T080000
END:DAYLIGHT
BEGIN:STANDARD
TZOFFSETFROM:-0500
TZOFFSETTO:-0600
TZNAME:CST
DTSTART:20271107T070000
END:STANDARD
END:VTIMEZONE
BEGIN:VEVENT
DTSTART;TZID=America/Chicago:20260423T183000
DTEND;TZID=America/Chicago:20260423T193000
DTSTAMP:20260423T073040
CREATED:20260410T183947Z
LAST-MODIFIED:20260410T183947Z
UID:6644-1776969000-1776972600@saintcatherine51.org
SUMMARY:Choir Rehearsal
DESCRIPTION:
URL:https://saintcatherine51.org/?tribe_events=choir-rehearsal-2
END:VEVENT
BEGIN:VEVENT
DTSTART;TZID=America/Chicago:20260424T083000
DTEND;TZID=America/Chicago:20260424T090000
DTSTAMP:20260423T073040
CREATED:20260211T205129Z
LAST-MODIFIED:20260211T205129Z
UID:6422-1777019400-1777021200@saintcatherine51.org
SUMMARY:Weekday Mass
DESCRIPTION:
URL:https://saintcatherine51.org/?tribe_events=weekday-mass-20
LOCATION:St Catherine Parish\, 5100 W Center St\, Milwaukee\, WI\, 53210\, United States
END:VEVENT
BEGIN:VEVENT
DTSTART;TZID=America/Chicago:20260424T091500
DTEND;TZID=America/Chicago:20260424T103000
DTSTAMP:20260423T073040
CREATED:20260410T184037Z
LAST-MODIFIED:20260410T184037Z
UID:6646-1777022100-1777026600@saintcatherine51.org
SUMMARY:St Vincent de Paul meeting (Rectory)
DESCRIPTION:
URL:https://saintcatherine51.org/?tribe_events=st-vincent-de-paul-meeting-rectory-5
END:VEVENT
BEGIN:VEVENT
DTSTART;TZID=America/Chicago:20260425T083000
DTEND;TZID=America/Chicago:20260425T093000
DTSTAMP:20260423T073040
CREATED:20260303T024831Z
LAST-MODIFIED:20260303T024831Z
UID:6532-1777105800-1777109400@saintcatherine51.org
SUMMARY:Saturday Mass
DESCRIPTION:
URL:https://saintcatherine51.org/?tribe_events=saturday-mass-4
END:VEVENT
BEGIN:VEVENT
DTSTART;TZID=America/Chicago:20260425T090000
DTEND;TZID=America/Chicago:20260425T110000
DTSTAMP:20260423T073040
CREATED:20260303T024530Z
LAST-MODIFIED:20260303T024530Z
UID:6528-1777107600-1777114800@saintcatherine51.org
SUMMARY:Food Pantry (Community Center)
DESCRIPTION:
URL:https://saintcatherine51.org/?tribe_events=food-pantry-community-center-6
END:VEVENT
BEGIN:VEVENT
DTSTART;TZID=America/Chicago:20260426T090000
DTEND;TZID=America/Chicago:20260426T100000
DTSTAMP:20260423T073040
CREATED:20260211T203909Z
LAST-MODIFIED:20260211T203909Z
UID:6389-1777194000-1777197600@saintcatherine51.org
SUMMARY:Sunday Mass
DESCRIPTION:
URL:https://saintcatherine51.org/?tribe_events=sunday-mass-9
LOCATION:St Catherine Parish\, 5100 W Center St\, Milwaukee\, WI\, 53210\, United States
END:VEVENT
BEGIN:VEVENT
DTSTART;TZID=America/Chicago:20260428T081500
DTEND;TZID=America/Chicago:20260428T090000
DTSTAMP:20260423T073040
CREATED:20260211T204645Z
LAST-MODIFIED:20260211T204645Z
UID:6408-1777364100-1777366800@saintcatherine51.org
SUMMARY:Weekday Mass
DESCRIPTION:
URL:https://saintcatherine51.org/?tribe_events=weekday-mass-13
LOCATION:St Catherine Parish\, 5100 W Center St\, Milwaukee\, WI\, 53210\, United States
END:VEVENT
BEGIN:VEVENT
DTSTART;TZID=America/Chicago:20260428T091500
DTEND;TZID=America/Chicago:20260428T103000
DTSTAMP:20260423T073040
CREATED:20260410T184142Z
LAST-MODIFIED:20260410T184142Z
UID:6648-1777367700-1777372200@saintcatherine51.org
SUMMARY:Adult Formation (FKCC)
DESCRIPTION:
URL:https://saintcatherine51.org/?tribe_events=adult-formation-fkcc-3
END:VEVENT
BEGIN:VEVENT
DTSTART;TZID=America/Chicago:20260430T183000
DTEND;TZID=America/Chicago:20260430T193000
DTSTAMP:20260423T073040
CREATED:20260410T184218Z
LAST-MODIFIED:20260410T184218Z
UID:6650-1777573800-1777577400@saintcatherine51.org
SUMMARY:Choir Rehearsal
DESCRIPTION:
URL:https://saintcatherine51.org/?tribe_events=choir-rehearsal-3
END:VEVENT
BEGIN:VEVENT
DTSTART;TZID=America/Chicago:20260501T083000
DTEND;TZID=America/Chicago:20260501T090000
DTSTAMP:20260423T073040
CREATED:20260313T172359Z
LAST-MODIFIED:20260313T172359Z
UID:6547-1777624200-1777626000@saintcatherine51.org
SUMMARY:Weekday Mass
DESCRIPTION:
URL:https://saintcatherine51.org/?tribe_events=weekday-mass-21
END:VEVENT
BEGIN:VEVENT
DTSTART;TZID=America/Chicago:20260503T090000
DTEND;TZID=America/Chicago:20260503T100000
DTSTAMP:20260423T073040
CREATED:20260313T172445Z
LAST-MODIFIED:20260313T172445Z
UID:6549-1777798800-1777802400@saintcatherine51.org
SUMMARY:Sunday Mass
DESCRIPTION:
URL:https://saintcatherine51.org/?tribe_events=sunday-mass-10
END:VEVENT
BEGIN:VEVENT
DTSTART;TZID=America/Chicago:20260505T081500
DTEND;TZID=America/Chicago:20260505T090000
DTSTAMP:20260423T073040
CREATED:20260313T172522Z
LAST-MODIFIED:20260313T174100Z
UID:6551-1777968900-1777971600@saintcatherine51.org
SUMMARY:Weekday Mass
DESCRIPTION:
URL:https://saintcatherine51.org/?tribe_events=weekday-mass-22
END:VEVENT
BEGIN:VEVENT
DTSTART;TZID=America/Chicago:20260508T083000
DTEND;TZID=America/Chicago:20260508T090000
DTSTAMP:20260423T073040
CREATED:20260313T172600Z
LAST-MODIFIED:20260313T172600Z
UID:6553-1778229000-1778230800@saintcatherine51.org
SUMMARY:Weekday Mass
DESCRIPTION:
URL:https://saintcatherine51.org/?tribe_events=weekday-mass-23
END:VEVENT
BEGIN:VEVENT
DTSTART;TZID=America/Chicago:20260509T083000
DTEND;TZID=America/Chicago:20260509T090000
DTSTAMP:20260423T073040
CREATED:20260313T172657Z
LAST-MODIFIED:20260313T172657Z
UID:6555-1778315400-1778317200@saintcatherine51.org
SUMMARY:Saturday Mass
DESCRIPTION:
URL:https://saintcatherine51.org/?tribe_events=saturday-mass-5
END:VEVENT
BEGIN:VEVENT
DTSTART;TZID=America/Chicago:20260509T090000
DTEND;TZID=America/Chicago:20260509T110000
DTSTAMP:20260423T073040
CREATED:20260313T172728Z
LAST-MODIFIED:20260313T173234Z
UID:6557-1778317200-1778324400@saintcatherine51.org
SUMMARY:Food Pantry
DESCRIPTION:
URL:https://saintcatherine51.org/?tribe_events=food-pantry
END:VEVENT
BEGIN:VEVENT
DTSTART;TZID=America/Chicago:20260509T100000
DTEND;TZID=America/Chicago:20260509T120000
DTSTAMP:20260423T073040
CREATED:20260211T200719Z
LAST-MODIFIED:20260211T200719Z
UID:6366-1778320800-1778328000@saintcatherine51.org
SUMMARY:Mary Family Event
DESCRIPTION:
URL:https://saintcatherine51.org/?tribe_events=mary-family-event
END:VEVENT
BEGIN:VEVENT
DTSTART;TZID=America/Chicago:20260510T084500
DTEND;TZID=America/Chicago:20260510T103000
DTSTAMP:20260423T073040
CREATED:20260211T195853Z
LAST-MODIFIED:20260211T195853Z
UID:6346-1778402700-1778409000@saintcatherine51.org
SUMMARY:Catechesis of the Good Shepherd - Level 1
DESCRIPTION:
URL:https://saintcatherine51.org/?tribe_events=catechesis-of-the-good-shepherd-level-1-9
LOCATION:St Catherine Parish\, 5100 W Center St\, Milwaukee\, WI\, 53210\, United States
END:VEVENT
BEGIN:VEVENT
DTSTART;TZID=America/Chicago:20260510T090000
DTEND;TZID=America/Chicago:20260510T100000
DTSTAMP:20260423T073040
CREATED:20260313T172801Z
LAST-MODIFIED:20260313T172801Z
UID:6559-1778403600-1778407200@saintcatherine51.org
SUMMARY:Sunday Mass
DESCRIPTION:
URL:https://saintcatherine51.org/?tribe_events=sunday-mass-11
END:VEVENT
BEGIN:VEVENT
DTSTART;TZID=America/Chicago:20260511T174500
DTEND;TZID=America/Chicago:20260511T193000
DTSTAMP:20260423T073040
CREATED:20260211T200425Z
LAST-MODIFIED:20260211T200425Z
UID:6360-1778521500-1778527800@saintcatherine51.org
SUMMARY:Catechesis of the Good Shepherd - Level 2
DESCRIPTION:
URL:https://saintcatherine51.org/?tribe_events=catechesis-of-the-good-shepherd-level-2-6
LOCATION:St Catherine Parish\, 5100 W Center St\, Milwaukee\, WI\, 53210\, United States
END:VEVENT
BEGIN:VEVENT
DTSTART;TZID=America/Chicago:20260512T081500
DTEND;TZID=America/Chicago:20260512T090000
DTSTAMP:20260423T073040
CREATED:20260313T172838Z
LAST-MODIFIED:20260313T172838Z
UID:6561-1778573700-1778576400@saintcatherine51.org
SUMMARY:Weekday Mass
DESCRIPTION:
URL:https://saintcatherine51.org/?tribe_events=weekday-mass-24
END:VEVENT
BEGIN:VEVENT
DTSTART;TZID=America/Chicago:20260515T083000
DTEND;TZID=America/Chicago:20260515T090000
DTSTAMP:20260423T073040
CREATED:20260313T172917Z
LAST-MODIFIED:20260313T172917Z
UID:6563-1778833800-1778835600@saintcatherine51.org
SUMMARY:Weekday Mass
DESCRIPTION:
URL:https://saintcatherine51.org/?tribe_events=weekday-mass-25
END:VEVENT
BEGIN:VEVENT
DTSTART;TZID=America/Chicago:20260517T084500
DTEND;TZID=America/Chicago:20260517T100000
DTSTAMP:20260423T073040
CREATED:20260211T195934Z
LAST-MODIFIED:20260211T195934Z
UID:6348-1779007500-1779012000@saintcatherine51.org
SUMMARY:Catechesis of the Good Shepherd - Level 1
DESCRIPTION:
URL:https://saintcatherine51.org/?tribe_events=catechesis-of-the-good-shepherd-level-1-10
LOCATION:St Catherine Parish\, 5100 W Center St\, Milwaukee\, WI\, 53210\, United States
END:VEVENT
BEGIN:VEVENT
DTSTART;TZID=America/Chicago:20260517T090000
DTEND;TZID=America/Chicago:20260517T100000
DTSTAMP:20260423T073040
CREATED:20260313T172947Z
LAST-MODIFIED:20260313T174004Z
UID:6565-1779008400-1779012000@saintcatherine51.org
SUMMARY:Sunday Mass
DESCRIPTION:
URL:https://saintcatherine51.org/?tribe_events=sunday-mass-12
END:VEVENT
BEGIN:VEVENT
DTSTART;TZID=America/Chicago:20260518T174500
DTEND;TZID=America/Chicago:20260518T193000
DTSTAMP:20260423T073040
CREATED:20260211T200505Z
LAST-MODIFIED:20260211T200505Z
UID:6362-1779126300-1779132600@saintcatherine51.org
SUMMARY:Catechesis of the Good Shepherd - Level 2
DESCRIPTION:
URL:https://saintcatherine51.org/?tribe_events=catechesis-of-the-good-shepherd-level-2-7
LOCATION:St Catherine Parish\, 5100 W Center St\, Milwaukee\, WI\, 53210\, United States
END:VEVENT
BEGIN:VEVENT
DTSTART;TZID=America/Chicago:20260519T081500
DTEND;TZID=America/Chicago:20260519T090000
DTSTAMP:20260423T073040
CREATED:20260313T173024Z
LAST-MODIFIED:20260313T173024Z
UID:6567-1779178500-1779181200@saintcatherine51.org
SUMMARY:Weekday Mass
DESCRIPTION:
URL:https://saintcatherine51.org/?tribe_events=weekday-mass-26
END:VEVENT
BEGIN:VEVENT
DTSTART;TZID=America/Chicago:20260522T083000
DTEND;TZID=America/Chicago:20260522T090000
DTSTAMP:20260423T073040
CREATED:20260313T173058Z
LAST-MODIFIED:20260313T173058Z
UID:6569-1779438600-1779440400@saintcatherine51.org
SUMMARY:Weekday Mass
DESCRIPTION:
URL:https://saintcatherine51.org/?tribe_events=weekday-mass-27
END:VEVENT
BEGIN:VEVENT
DTSTART;TZID=America/Chicago:20260523T083000
DTEND;TZID=America/Chicago:20260523T090000
DTSTAMP:20260423T073040
CREATED:20260313T173129Z
LAST-MODIFIED:20260313T173915Z
UID:6571-1779525000-1779526800@saintcatherine51.org
SUMMARY:Saturday Mass
DESCRIPTION:
URL:https://saintcatherine51.org/?tribe_events=saturday-mass-6
END:VEVENT
BEGIN:VEVENT
DTSTART;TZID=America/Chicago:20260523T090000
DTEND;TZID=America/Chicago:20260523T110000
DTSTAMP:20260423T073040
CREATED:20260313T173201Z
LAST-MODIFIED:20260313T173834Z
UID:6573-1779526800-1779534000@saintcatherine51.org
SUMMARY:Food Pantry
DESCRIPTION:
URL:https://saintcatherine51.org/?tribe_events=food-pantry-2
END:VEVENT
BEGIN:VEVENT
DTSTART;TZID=America/Chicago:20260524T100000
DTEND;TZID=America/Chicago:20260524T110000
DTSTAMP:20260423T073040
CREATED:20260313T173328Z
LAST-MODIFIED:20260313T173328Z
UID:6575-1779616800-1779620400@saintcatherine51.org
SUMMARY:Sunday Mass - Pentecost
DESCRIPTION:
URL:https://saintcatherine51.org/?tribe_events=sunday-mass-pentecost
END:VEVENT
BEGIN:VEVENT
DTSTART;TZID=America/Chicago:20260526T081500
DTEND;TZID=America/Chicago:20260526T090000
DTSTAMP:20260423T073040
CREATED:20260313T173427Z
LAST-MODIFIED:20260313T173427Z
UID:6577-1779783300-1779786000@saintcatherine51.org
SUMMARY:Weekday Mass
DESCRIPTION:
URL:https://saintcatherine51.org/?tribe_events=weekday-mass-28
END:VEVENT
END:VCALENDAR